BEGIN:VCALENDAR
VERSION:2.0
PRODID:-//wp-events-plugin.com//7.2.3.1//EN
BEGIN:VEVENT
UID:0-31@lakecountydemocrats.org
DTSTART:20240606T023000Z
DTEND:20240606T040000Z
DTSTAMP:20240603T145815Z
URL:https://lakecountydemocrats.org/events/regular-monthly-meeting-of-the-
 lcdcc/
SUMMARY:Regular Monthly Meeting of the LCDCC
DESCRIPTION:This meeting will be remote on Zoom.  Contact Chair Sissa Harr
 is at info@lakecountydemocrats.org for Zoom invite and meeting materials.
CATEGORIES:Meeting
END:VEVENT
END:VCALENDAR