BEGIN:VCALENDAR
VERSION:2.0
PRODID:-//wp-events-plugin.com//7.2.3.1//EN
BEGIN:VEVENT
UID:0-89@lakecountydemocrats.org
DTSTART:20260328T200000Z
DTEND:20260328T220000Z
DTSTAMP:20260227T171132Z
URL:https://lakecountydemocrats.org/events/peaceful-protest-in-old-courtho
 use-museum-park-in-lakeport/
SUMMARY:No Kings Peaceful Protest in Old Courthouse Museum Park in Lakeport
DESCRIPTION:No Kings Peaceful Protest in Museum Park in Lakeport\n\n 	When:
  Sat\, Mar 28\, Noon to 2pm\n 	Where: Old Courthouse Museum Park\, Lakepor
 t\n 	Come protest with us in Museum Park. We will have protest music\, a s
 ign-making station and a lot of energy. We need 2000 people to make a diff
 erence – please put this on your calendar. Even if you just come out wit
 h a blanket and picnic basket you are welcome and we would love to have yo
 u!\n
CATEGORIES:Protest
LOCATION:Courthouse Park\, 200 block of North Main St.\, Lakeport\, CA\, Un
 ited States
X-APPLE-STRUCTURED-LOCATION;VALUE=URI;X-ADDRESS=200 block of North Main St.
 \, Lakeport\, CA\, United States;X-APPLE-RADIUS=100;X-TITLE=Courthouse Par
 k:geo:0,0
END:VEVENT
END:VCALENDAR