BEGIN:VCALENDAR
VERSION:2.0
PRODID:-//wp-events-plugin.com//7.2.3.1//EN
BEGIN:VEVENT
UID:0-117@lakecountydemocrats.org
DTSTART:20260524T190000Z
DTEND:20260524T230000Z
DTSTAMP:20260426T022537Z
URL:https://lakecountydemocrats.org/events/lower-lake-daze-parade-and-stre
 et-fair/
SUMMARY:Lower Lake Daze Parade &amp\; Street Fair
DESCRIPTION:Join us in the parade\, and them come by our booth at the Lower
  Lake Daze Parade and Street Fair.\n\nWhat: Lower Lake Daze Parade and Str
 eet Fair\nWhen: Sunday\, May 24 - 11am - 3pm\nWhere: Main Street\, Lower L
 ake
CATEGORIES:Event
LOCATION:Lower Lake\, Main Street\, Lower Lake\, United States
X-APPLE-STRUCTURED-LOCATION;VALUE=URI;X-ADDRESS=Main Street\, Lower Lake\, 
 United States;X-APPLE-RADIUS=100;X-TITLE=Lower Lake:geo:0,0
END:VEVENT
END:VCALENDAR