BEGIN:VCALENDAR
VERSION:2.0
PRODID:-//wp-events-plugin.com//7.2.3.1//EN
BEGIN:VEVENT
UID:0-116@lakecountydemocrats.org
DTSTART:20260523T190000Z
DTEND:20260523T230000Z
DTSTAMP:20260426T022318Z
URL:https://lakecountydemocrats.org/events/lakeport-memorial-day-parade-2/
SUMMARY:Lakeport Memorial Day Parade
DESCRIPTION:Please join us for the Lakeport Memorial Day Parade.\n\nThe 202
 6 Lakeport Memorial Day Parade is scheduled for Saturday\, May 23\, 2026\,
  starting at 11:00 a.m. along Main Street from Armstrong to Park. This tra
 ditional Lake County community event honors veterans and service members. 
 The event is approved by the Lakeport City Council.\n\nWhat: Lakeport Memo
 rial Day Parade\nWhen: Saturday\, May 23 - Starting at 11am\nWhere: Along 
 Main Street from Armstrong to Park
CATEGORIES:Event
LOCATION:Lakeport\, \, United States
X-APPLE-STRUCTURED-LOCATION;VALUE=URI;X-ADDRESS=\, United States;X-APPLE-RA
 DIUS=100;X-TITLE=Lakeport:geo:0,0
END:VEVENT
END:VCALENDAR