BEGIN:VCALENDAR
VERSION:2.0
PRODID:-//wp-events-plugin.com//7.2.3.1//EN
BEGIN:VEVENT
UID:0-57@lakecountydemocrats.org
DTSTART;VALUE=DATE:20250421
DTEND;VALUE=DATE:20250429
DTSTAMP:20250228T191316Z
URL:https://lakecountydemocrats.org/events/general-mills-boycott/
SUMMARY:General Mills Boycott
DESCRIPTION:No General Mills Purchases – It’s Time to Disrupt the Syste
 m\n\nHalt all General Mills purchases\, both online and in stores\, starti
 ng at 12 a.m. on Monday\, April 21 through 11:59 p.m. Monday April 28.
CATEGORIES:Protest
END:VEVENT
END:VCALENDAR