BEGIN:VCALENDAR
VERSION:2.0
PRODID:-//wp-events-plugin.com//7.2.3.1//EN
BEGIN:VEVENT
UID:0-51@lakecountydemocrats.org
DTSTART:20250228T080000Z
DTEND:20250301T075900Z
DTSTAMP:20250223T230803Z
URL:https://lakecountydemocrats.org/events/economic-blackout/
SUMMARY:Economic Blackout
DESCRIPTION:\n\nNo Purchases - It's Time to Disrupt the System\n\nNO Amazon
 \, NO Target\, NO Home Depot\, NO Walmart\, NO McDonalds\, NO online shopp
 ing via Facebook\, Instagram\, etc.\, NO PayPal…\n\nHalt all purchases\,
  both online and in stores\, starting at 12 a.m. on Friday\, Feb. 28 throu
 gh 11:59 p.m. that same day. If absolutely necessary\, limit purchases to 
 small local businesses.
CATEGORIES:Event
END:VEVENT
END:VCALENDAR