BEGIN:VCALENDAR
VERSION:2.0
PRODID:-//wp-events-plugin.com//7.2.3.1//EN
BEGIN:VEVENT
UID:0-38@lakecountydemocrats.org
DTSTART:20250403T020000Z
DTEND:20250403T040000Z
DTSTAMP:20250305T202900Z
URL:https://lakecountydemocrats.org/events/april-2025-lcdcc-meeting/
SUMMARY:April 2025 LCDCC Meeting
DESCRIPTION:Regularly scheduled meeting\, first Wednesday of the month.\n\n
 All registered Democrats welcome to attend. Social gathering at 6 pm\; mee
 ting begins at 6:30.\n\nLocation: The Community Room at the Lower Lake Met
 hodist Church (where we met in person for years). We will have a social ha
 lf-hour from 6:00 to 6:30 and then start our business meeting.
CATEGORIES:Meeting
LOCATION:Lower Lake Methodist Church\, 16255 2nd Street\, Lower Lake\, CA\,
  95457\, United States
X-APPLE-STRUCTURED-LOCATION;VALUE=URI;X-ADDRESS=16255 2nd Street\, Lower La
 ke\, CA\, 95457\, United States;X-APPLE-RADIUS=100;X-TITLE=Lower Lake Meth
 odist Church:geo:0,0
END:VEVENT
END:VCALENDAR