BEGIN:VCALENDAR
VERSION:2.0
PRODID:-//wp-events-plugin.com//7.2.3.1//EN
BEGIN:VEVENT
UID:0-52@lakecountydemocrats.org
DTSTART:20250305T000000Z
DTEND:20250305T020000Z
DTSTAMP:20250223T232803Z
URL:https://lakecountydemocrats.org/events/50501-the-peoples-movement/
SUMMARY:50501 The People’s Movement
DESCRIPTION:And now this… 50 States\, 50 Protests\, 1 Movement\n\nLet’s
  double the number of attendees we had at the President’s Day event. Bri
 ng your family\, friends &amp\; neighbors. Bring a sign and spread the wor
 d.\n\nLet’s make sure they can hear our displeasure!!\n\nTuesday\, March
  4 – 4pm to 6pm – Museum Park\, Main St &amp\; 3rd St\, Lakeport
CATEGORIES:Protest
END:VEVENT
END:VCALENDAR